BEGIN:VCALENDAR
VERSION:2.0
PRODID:-//Arts Council of Kern - ECPv6.15.20//NONSGML v1.0//EN
CALSCALE:GREGORIAN
METHOD:PUBLISH
X-ORIGINAL-URL:https://kernarts.org
X-WR-CALDESC:Events for Arts Council of Kern
REFRESH-INTERVAL;VALUE=DURATION:PT1H
X-Robots-Tag:noindex
X-PUBLISHED-TTL:PT1H
BEGIN:VTIMEZONE
TZID:UTC
BEGIN:STANDARD
TZOFFSETFROM:+0000
TZOFFSETTO:+0000
TZNAME:UTC
DTSTART:20240101T000000
END:STANDARD
END:VTIMEZONE
BEGIN:VEVENT
DTSTART;TZID=UTC:20251213T090000
DTEND;TZID=UTC:20251213T150000
DTSTAMP:20260424T122050
CREATED:20251114T185740Z
LAST-MODIFIED:20251115T003837Z
UID:5413-1765616400-1765638000@kernarts.org
SUMMARY:Santa's Second Saturday
DESCRIPTION:Santa’s Second Saturday  \nHosted by the Arts Council of Kern \nPart of Holiday on 18th Street \nCelebrate the season during Santa’s Second Saturday\, a festive daytime shopping experience hosted by the Arts Council of Kern as part of our month-long Holiday on 18th Street Celebration. Stroll through the market and discover handcrafted treasures\, support local artists\, and enjoy the warm\, welcoming atmosphere. \nWhether your looking for the perfect present or simply enjoying a cheerful weekend outing\, Santa’s Second Saturday brings together art\, shopping\, and the seasonal spirit.
URL:https://kernarts.org/event/second-saturday-2/
LOCATION:Arts Council of Kern – 18th Street\, 1020 18th Street\, Bakersfield\, CA\, 93301-1345\, United States
ORGANIZER;CN="Arts Council of Kern":MAILTO:artwalk@kernarts.org
END:VEVENT
END:VCALENDAR