BEGIN:VCALENDAR
VERSION:2.0
PRODID:-//Arts Council of Kern - ECPv6.15.20//NONSGML v1.0//EN
CALSCALE:GREGORIAN
METHOD:PUBLISH
X-ORIGINAL-URL:https://kernarts.org
X-WR-CALDESC:Events for Arts Council of Kern
REFRESH-INTERVAL;VALUE=DURATION:PT1H
X-Robots-Tag:noindex
X-PUBLISHED-TTL:PT1H
BEGIN:VTIMEZONE
TZID:UTC
BEGIN:STANDARD
TZOFFSETFROM:+0000
TZOFFSETTO:+0000
TZNAME:UTC
DTSTART:20250101T000000
END:STANDARD
END:VTIMEZONE
BEGIN:VEVENT
DTSTART;TZID=UTC:20260220T170000
DTEND;TZID=UTC:20260220T210000
DTSTAMP:20260424T094603
CREATED:20251022T181129Z
LAST-MODIFIED:20260105T191939Z
UID:5286-1771606800-1771621200@kernarts.org
SUMMARY:Cutting Edge: Art off the Wall
DESCRIPTION:An Art Gallery dedicated to the alternative\, metalworks and sculptural arts.
URL:https://kernarts.org/event/cutting-edge/
LOCATION:Arts Council of Kern – 18th Street\, 1020 18th Street\, Bakersfield\, CA\, 93301-1345\, United States
ORGANIZER;CN="Arts Council of Kern":MAILTO:artwalk@kernarts.org
END:VEVENT
END:VCALENDAR