BEGIN:VCALENDAR
VERSION:2.0
PRODID:-//Arts Council of Kern - ECPv6.15.20//NONSGML v1.0//EN
CALSCALE:GREGORIAN
METHOD:PUBLISH
X-WR-CALNAME:Arts Council of Kern
X-ORIGINAL-URL:https://kernarts.org
X-WR-CALDESC:Events for Arts Council of Kern
REFRESH-INTERVAL;VALUE=DURATION:PT1H
X-Robots-Tag:noindex
X-PUBLISHED-TTL:PT1H
BEGIN:VTIMEZONE
TZID:UTC
BEGIN:STANDARD
TZOFFSETFROM:+0000
TZOFFSETTO:+0000
TZNAME:UTC
DTSTART:20250101T000000
END:STANDARD
END:VTIMEZONE
BEGIN:VEVENT
DTSTART;TZID=UTC:20260312T130000
DTEND;TZID=UTC:20260312T160000
DTSTAMP:20260424T082446
CREATED:20260304T191418Z
LAST-MODIFIED:20260304T191418Z
UID:6022-1773320400-1773331200@kernarts.org
SUMMARY:Cultivate Kern
DESCRIPTION:Cultivate Kern is a free\, hands-on workshop series designed to strengthen nonprofit leaders\, arts and culture organizations\, schools\, libraries\, grassroots groups\, and civic leaders across Kern County. Through arts-based strategies and practical tools\, the program helps organizations build capacity\, diversify funding\, strengthen leadership\, and move from survival to sustainability. Featuring interactive sessions\, peer networking\, and real-world application\, Cultivate Kern equips participants to grow stronger and more connected to the communities they serve—at no cost thanks to support from The Wonderful Company and the Arts Council of Kern.
URL:https://kernarts.org/event/cultivate-kern/
END:VEVENT
END:VCALENDAR