BEGIN:VCALENDAR
VERSION:2.0
PRODID:-//Arts Council of Kern - ECPv6.15.20//NONSGML v1.0//EN
CALSCALE:GREGORIAN
METHOD:PUBLISH
X-WR-CALNAME:Arts Council of Kern
X-ORIGINAL-URL:https://kernarts.org
X-WR-CALDESC:Events for Arts Council of Kern
REFRESH-INTERVAL;VALUE=DURATION:PT1H
X-Robots-Tag:noindex
X-PUBLISHED-TTL:PT1H
BEGIN:VTIMEZONE
TZID:UTC
BEGIN:STANDARD
TZOFFSETFROM:+0000
TZOFFSETTO:+0000
TZNAME:UTC
DTSTART:20250101T000000
END:STANDARD
END:VTIMEZONE
BEGIN:VEVENT
DTSTART;VALUE=DATE:20260313
DTEND;VALUE=DATE:20260314
DTSTAMP:20260424T082409
CREATED:20260304T192128Z
LAST-MODIFIED:20260304T192128Z
UID:6032-1773360000-1773446399@kernarts.org
SUMMARY:Reigning Cats and Dogs - SUBMISSION DEADLINE
DESCRIPTION:Reigning Cats and Dogs is a playful and heartwarming exhibition celebrating our favorite furry companions. Featuring pet-inspired artwork by talented local artists from across Kern County\, the gallery highlights a variety of styles and mediums that capture the charm and personality of cats and dogs. The celebration will also include a lively Pet Parade\, inviting the community to show off their beloved companions. Many of the artworks will be available for purchase\, making it a fun and meaningful way to support local artists.
URL:https://kernarts.org/event/reigning-cats-and-dogs-submission-deadline/
LOCATION:Arts Council of Kern – 18th Street\, 1020 18th Street\, Bakersfield\, CA\, 93301-1345\, United States
ORGANIZER;CN="Arts Council of Kern":MAILTO:artwalk@kernarts.org
END:VEVENT
END:VCALENDAR