BEGIN:VCALENDAR
VERSION:2.0
PRODID:-//Arts Council of Kern - ECPv6.15.20//NONSGML v1.0//EN
CALSCALE:GREGORIAN
METHOD:PUBLISH
X-ORIGINAL-URL:https://kernarts.org
X-WR-CALDESC:Events for Arts Council of Kern
REFRESH-INTERVAL;VALUE=DURATION:PT1H
X-Robots-Tag:noindex
X-PUBLISHED-TTL:PT1H
BEGIN:VTIMEZONE
TZID:UTC
BEGIN:STANDARD
TZOFFSETFROM:+0000
TZOFFSETTO:+0000
TZNAME:UTC
DTSTART:20230101T000000
END:STANDARD
END:VTIMEZONE
BEGIN:VEVENT
DTSTART;TZID=UTC:20240607T170000
DTEND;TZID=UTC:20240607T210000
DTSTAMP:20260424T133802
CREATED:20240528T221010Z
LAST-MODIFIED:20240528T221010Z
UID:3555-1717779600-1717794000@kernarts.org
SUMMARY:June First Friday
DESCRIPTION:SUPPORT LOCAL ARTISTS \n\n\n\n\nJune ArtWalk!\n\n\n\n\nHosted by the Arts Council of Kern\, the ArtWalk will showcase a diverse array of talents\, featuring artists\, artisans\, and vendors\, creating a dynamic atmosphere for attendees. Engage in hands-on experiences such as jewelry making and storytelling\, making this event a unique and enriching way to celebrate the month of creativity! \nArtWalk takes place in downtown Bakersfield on the first Friday of every month\, from October through June. \nDownload the ArtWalk application and ACK’s release form below and pay online using Square. Questions? Don’t hesitate to get in touch with us at artwalk@kernarts.org. The cost to participate as an artist-vendor is $35 per month. 
URL:https://kernarts.org/event/june-first-friday/
LOCATION:The Brickyard\, 1020 18th Street\, Bakersfield\, CA\, 93301-1345\, United States
CATEGORIES:ArtWalk
ORGANIZER;CN="Arts Council of Kern":MAILTO:artwalk@kernarts.org
END:VEVENT
BEGIN:VEVENT
DTSTART;TZID=UTC:20240608T180000
DTEND;TZID=UTC:20240608T220000
DTSTAMP:20260424T133802
CREATED:20240506T192349Z
LAST-MODIFIED:20240506T192349Z
UID:3457-1717869600-1717884000@kernarts.org
SUMMARY:A Night in Provence: Par Deux
DESCRIPTION:A NIGHT IN PROVENCE: PAR DEUX\nStep into the enchanting world of France at “A Night In Provence Par Deux\,” hosted by the Arts Council of Kern. Immerse yourself in the sights\, sounds\, and flavors of Provence as we transport you to this picturesque region for a magical evening. Indulge in live music\, ambiance\, and delectable French cuisine while perusing a stunning collection of hand-painted umbrellas crafted by local artists. Join us for an unforgettable experience as we raise funds to support the arts in our community. General admission tickets are priced at $85\, while members enjoy a discounted rate of $75. Join us for a night of elegance\, creativity\, and philanthropy at “A Night In Provence Par Deux.” \n  \nTICKETS\nGeneral Admission – $85 \nMember Admission – $75 \n  \nSPONSORSHIP OPPORTUNITIES\nUnlock exclusive benefits and elevate your brand’s presence by selecting one of our tailored sponsorship packages for A Night In Provence: Par Deux. From prominent logo placement to VIP experiences\, our packages offer unique opportunities for businesses to showcase their support for the arts while enjoying unforgettable perks. \nCote d’Azur – $5\,000 \n\n10 VIP Package Tickets (includes special seating\, extra food\, beverage and opportunity drawing tokens)\nLogo on website\, printed and digital materials\nRecognition from the podium\n\nAvignon – $1\,000 \n\n8 Event Tickets\nListing on website\, printed and digital materials\nRecognition from the podium\n\nMarseille – $2\,500 \n\n10 Event Tickets\nLogo on website\, printed and digital materials\nRecognition from the podium\n\nCannes–$500 \n\n4 Event Tickets\nName on website & program
URL:https://kernarts.org/event/a-night-in-provence-par-deux/
LOCATION:The Brickyard\, 1020 18th Street\, Bakersfield\, CA\, 93301-1345\, United States
CATEGORIES:Fundraiser
ORGANIZER;CN="Arts Council of Kern":MAILTO:artwalk@kernarts.org
END:VEVENT
END:VCALENDAR