BEGIN:VCALENDAR
VERSION:2.0
PRODID:-//Arts Council of Kern - ECPv6.15.20//NONSGML v1.0//EN
CALSCALE:GREGORIAN
METHOD:PUBLISH
X-WR-CALNAME:Arts Council of Kern
X-ORIGINAL-URL:https://kernarts.org
X-WR-CALDESC:Events for Arts Council of Kern
REFRESH-INTERVAL;VALUE=DURATION:PT1H
X-Robots-Tag:noindex
X-PUBLISHED-TTL:PT1H
BEGIN:VTIMEZONE
TZID:UTC
BEGIN:STANDARD
TZOFFSETFROM:+0000
TZOFFSETTO:+0000
TZNAME:UTC
DTSTART:20240101T000000
END:STANDARD
END:VTIMEZONE
BEGIN:VEVENT
DTSTART;TZID=UTC:20251106T090000
DTEND;TZID=UTC:20251106T130000
DTSTAMP:20260424T122300
CREATED:20251022T172908Z
LAST-MODIFIED:20251022T172908Z
UID:5250-1762419600-1762434000@kernarts.org
SUMMARY:Toni Best's\, "The Art of Weaving"
DESCRIPTION:Students will learn to coil glycerin-treated pine needles onto a prepared gourd using the distinctive “V” stitch\, creating beautiful contrast and texture. Working on smaller gourds allows most participants to finish their piece during class\, with materials provided to complete it at home if needed. This time-honored craft reflects techniques still practiced by Native American artisans today.
URL:https://kernarts.org/event/toni-bests-the-art-of-weaving/
LOCATION:Arts Council of Kern – 18th Street\, 1020 18th Street\, Bakersfield\, CA\, 93301-1345\, United States
ORGANIZER;CN="Arts Council of Kern":MAILTO:artwalk@kernarts.org
END:VEVENT
BEGIN:VEVENT
DTSTART;TZID=UTC:20251107T050000
DTEND;TZID=UTC:20251107T190000
DTSTAMP:20260424T122300
CREATED:20251022T175557Z
LAST-MODIFIED:20251022T175557Z
UID:5280-1762491600-1762542000@kernarts.org
SUMMARY:Intertwined
DESCRIPTION:This art show will highlight weaving in all its forms — not just in fiber\, but in story\, sound\, and imagery. From paintings and mixed media to music\, sculpture\, or poetry\, artists are invited to explore the idea of connection — how threads\, ideas\, and cultures intertwine to create something new.
URL:https://kernarts.org/event/intertwined/
LOCATION:Arts Council of Kern – 18th Street\, 1020 18th Street\, Bakersfield\, CA\, 93301-1345\, United States
ORGANIZER;CN="Arts Council of Kern":MAILTO:artwalk@kernarts.org
END:VEVENT
END:VCALENDAR